BEGIN:VCALENDAR
VERSION:2.0
PRODID:-//OmniMagnetCalendar//EN
BEGIN:VEVENT
DTSTAMP:20190625T195740Z
STATUS:CONFIRMED
UID:hcsaudiarabia.clubs.harvard.edu211
DTSTART:20220316T170000Z
DTEND:
LOCATION:Cultural Palace  , 7320 Amr Aldamri St, Al Safarat,, Riyadh, 12512, Saudi Arabia,
SUMMARY:Global Networking Night: Riyadh
DESCRIPTION:Calling all Harvard alumni in Riyadh! Harvard alumni worldwide are coming together both online and in cities around the globe for a night of connection and community.
BEGIN:VALARM
TRIGGER:-PT15M
ACTION:DISPLAY
END:VALARM
TRANSP:OPAQUE
END:VEVENT
END:VCALENDAR
