BEGIN:VCALENDAR
VERSION:2.0
PRODID:-//OmniMagnetCalendar//EN
BEGIN:VEVENT
DTSTAMP:20190625T195740Z
STATUS:CONFIRMED
UID:hcsaudiarabia.clubs.harvard.edu210
DTSTART:20210121T170000Z
DTEND:
LOCATION:Virtual,
SUMMARY:Global Networking Night
DESCRIPTION:Mark your calendar for our annual Global Networking Night (GNN) on Thursday, January 21, 2021, from 8:00 pm to 9:00 pm KSA.
BEGIN:VALARM
TRIGGER:-PT15M
ACTION:DISPLAY
END:VALARM
TRANSP:OPAQUE
END:VEVENT
END:VCALENDAR
