BEGIN:VCALENDAR
VERSION:2.0
PRODID:-//OmniMagnetCalendar//EN
BEGIN:VEVENT
DTSTAMP:20190625T195740Z
STATUS:CONFIRMED
UID:hcsaudiarabia.clubs.harvard.edu209
DTSTART:20201215T161500Z
DTEND:
LOCATION:Virtual,
SUMMARY:HBS Info Session
DESCRIPTION:The HBS Middle East & North Africa (MENA) will be hosting an information session to offer prospective students the chance to hear from local alumni and current students as they discuss MBA community.
BEGIN:VALARM
TRIGGER:-PT15M
ACTION:DISPLAY
END:VALARM
TRANSP:OPAQUE
END:VEVENT
END:VCALENDAR
