BEGIN:VCALENDAR
VERSION:2.0
PRODID:-//OmniMagnetCalendar//EN
BEGIN:VEVENT
DTSTAMP:20190625T195740Z
STATUS:CONFIRMED
UID:hcsaudiarabia.clubs.harvard.edu208
DTSTART:20201112T090000Z
DTEND:20201116T205555Z
LOCATION:
SUMMARY:Virtual 5k Your Way!
DESCRIPTION:Participants can run, walk, hike a favorite trail or cycle a bike. We even have some swimmers committed to covering the distance!
BEGIN:VALARM
TRIGGER:-PT15M
ACTION:DISPLAY
END:VALARM
TRANSP:OPAQUE
END:VEVENT
END:VCALENDAR
