BEGIN:VCALENDAR
VERSION:2.0
PRODID:-//OmniMagnetCalendar//EN
BEGIN:VEVENT
DTSTAMP:20190625T195740Z
STATUS:CONFIRMED
UID:hcsaudiarabia.clubs.harvard.edu206
DTSTART:20200924T130000Z
DTEND:
LOCATION:Virtual,
SUMMARY:Harvard GSD Alumni Council Design Impact Summit
DESCRIPTION:
BEGIN:VALARM
TRIGGER:-PT15M
ACTION:DISPLAY
END:VALARM
TRANSP:OPAQUE
END:VEVENT
END:VCALENDAR
