BEGIN:VCALENDAR
VERSION:2.0
PRODID:-//OmniMagnetCalendar//EN
BEGIN:VEVENT
DTSTAMP:20190625T195740Z
STATUS:CONFIRMED
UID:hcsaudiarabia.clubs.harvard.edu203
DTSTART:20191110T163000Z
DTEND:20191110T193000Z
LOCATION:Vibes Offices, Al Takhasussi, Riyadh, 12361, Saudi Arabia,
SUMMARY:Leadership Series: Inclusive Growth Strategies KSA
DESCRIPTION:Dr. Robert Kaplan, Professor of Leadership Development, Emeritus Harvard Business School
BEGIN:VALARM
TRIGGER:-PT15M
ACTION:DISPLAY
END:VALARM
TRANSP:OPAQUE
END:VEVENT
END:VCALENDAR
